BEGIN:VCALENDAR
VERSION:2.0
PRODID:-//Building Builders - ECPv6.15.18//NONSGML v1.0//EN
CALSCALE:GREGORIAN
METHOD:PUBLISH
X-WR-CALNAME:Building Builders
X-ORIGINAL-URL:https://buildingbuilders.ca
X-WR-CALDESC:Events for Building Builders
REFRESH-INTERVAL;VALUE=DURATION:PT1H
X-Robots-Tag:noindex
X-PUBLISHED-TTL:PT1H
BEGIN:VTIMEZONE
TZID:America/Vancouver
BEGIN:DAYLIGHT
TZOFFSETFROM:-0800
TZOFFSETTO:-0700
TZNAME:PDT
DTSTART:20220313T100000
END:DAYLIGHT
BEGIN:STANDARD
TZOFFSETFROM:-0700
TZOFFSETTO:-0800
TZNAME:PST
DTSTART:20221106T090000
END:STANDARD
BEGIN:DAYLIGHT
TZOFFSETFROM:-0800
TZOFFSETTO:-0700
TZNAME:PDT
DTSTART:20230312T100000
END:DAYLIGHT
BEGIN:STANDARD
TZOFFSETFROM:-0700
TZOFFSETTO:-0800
TZNAME:PST
DTSTART:20231105T090000
END:STANDARD
BEGIN:DAYLIGHT
TZOFFSETFROM:-0800
TZOFFSETTO:-0700
TZNAME:PDT
DTSTART:20240310T100000
END:DAYLIGHT
BEGIN:STANDARD
TZOFFSETFROM:-0700
TZOFFSETTO:-0800
TZNAME:PST
DTSTART:20241103T090000
END:STANDARD
END:VTIMEZONE
BEGIN:VEVENT
DTSTART;TZID=America/Vancouver:20230316T173000
DTEND;TZID=America/Vancouver:20230316T193000
DTSTAMP:20260422T041904
CREATED:20230606T224557Z
LAST-MODIFIED:20230606T224557Z
UID:1122-1678987800-1678995000@buildingbuilders.ca
SUMMARY:ISS BC Career Paths Celebration
DESCRIPTION:Career Paths honoured Building Builders as an industry champion and presented an award.
URL:https://buildingbuilders.ca/event/iss-bc-career-paths-celebration/
LOCATION:Vancouver Welcome Centre\, 2610 Victoria Drive 2nd Floor\, Vancouver\, BC\, V5N4L2\, Canada
CATEGORIES:Mentee-Focused
END:VEVENT
END:VCALENDAR