BEGIN:VCALENDAR
VERSION:2.0
PRODID:-//Building Builders - ECPv6.15.18//NONSGML v1.0//EN
CALSCALE:GREGORIAN
METHOD:PUBLISH
X-WR-CALNAME:Building Builders
X-ORIGINAL-URL:https://buildingbuilders.ca
X-WR-CALDESC:Events for Building Builders
REFRESH-INTERVAL;VALUE=DURATION:PT1H
X-Robots-Tag:noindex
X-PUBLISHED-TTL:PT1H
BEGIN:VTIMEZONE
TZID:America/Vancouver
BEGIN:DAYLIGHT
TZOFFSETFROM:-0800
TZOFFSETTO:-0700
TZNAME:PDT
DTSTART:20220313T100000
END:DAYLIGHT
BEGIN:STANDARD
TZOFFSETFROM:-0700
TZOFFSETTO:-0800
TZNAME:PST
DTSTART:20221106T090000
END:STANDARD
BEGIN:DAYLIGHT
TZOFFSETFROM:-0800
TZOFFSETTO:-0700
TZNAME:PDT
DTSTART:20230312T100000
END:DAYLIGHT
BEGIN:STANDARD
TZOFFSETFROM:-0700
TZOFFSETTO:-0800
TZNAME:PST
DTSTART:20231105T090000
END:STANDARD
BEGIN:DAYLIGHT
TZOFFSETFROM:-0800
TZOFFSETTO:-0700
TZNAME:PDT
DTSTART:20240310T100000
END:DAYLIGHT
BEGIN:STANDARD
TZOFFSETFROM:-0700
TZOFFSETTO:-0800
TZNAME:PST
DTSTART:20241103T090000
END:STANDARD
END:VTIMEZONE
BEGIN:VEVENT
DTSTART;TZID=America/Vancouver:20230530T103000
DTEND;TZID=America/Vancouver:20230530T103000
DTSTAMP:20260422T013402
CREATED:20230606T225258Z
LAST-MODIFIED:20230608T163515Z
UID:1128-1685442600-1685442600@buildingbuilders.ca
SUMMARY:Kinetic Construction – UVic On-site Visit
DESCRIPTION:
URL:https://buildingbuilders.ca/event/kinetic-construction-uvic-on-site-visit/
LOCATION:UVIC Student Dorms\, Victoria\, BC\, V8P 5C2\, Canada
CATEGORIES:Mentor-Focused
ATTACH;FMTTYPE=image/jpeg:https://buildingbuilders.ca/wp-content/uploads/2023/06/Kinetic-May-30.jpg
END:VEVENT
BEGIN:VEVENT
DTSTART;TZID=America/Vancouver:20230530T120000
DTEND;TZID=America/Vancouver:20230530T120000
DTSTAMP:20260422T013402
CREATED:20230606T225539Z
LAST-MODIFIED:20230606T225600Z
UID:1131-1685448000-1685448000@buildingbuilders.ca
SUMMARY:Chandos Construction – UVic Site Visit
DESCRIPTION:
URL:https://buildingbuilders.ca/event/chandos-construction-uvic-site-visit/
LOCATION:UVIC National Centre for Indigenous Law\, Victoria\, BC\, V8P 5C2\, Canada
CATEGORIES:Mentor-Focused
END:VEVENT
BEGIN:VEVENT
DTSTART;TZID=America/Vancouver:20230530T130000
DTEND;TZID=America/Vancouver:20230530T130000
DTSTAMP:20260422T013402
CREATED:20230606T225707Z
LAST-MODIFIED:20230607T155150Z
UID:1134-1685451600-1685451600@buildingbuilders.ca
SUMMARY:RavenStone Construction – UVic Site Visit
DESCRIPTION:
URL:https://buildingbuilders.ca/event/ravenstone-construction-uvic-site-visit/
LOCATION:UVIC National Centre for Indigenous Law\, Victoria\, BC\, V8P 5C2\, Canada
CATEGORIES:Mentor-Focused
ATTACH;FMTTYPE=image/jpeg:https://buildingbuilders.ca/wp-content/uploads/2023/06/Ravenstone-May-30.jpg
END:VEVENT
END:VCALENDAR